BEGIN:VCALENDAR
VERSION:2.0
PRODID:-//ChamberMaster//Event Calendar 2.0//EN
METHOD:PUBLISH
X-PUBLISHED-TTL:P3D
REFRESH-INTERVAL:P3D
CALSCALE:GREGORIAN
BEGIN:VEVENT
DTSTART:20131119T230000Z
DTEND:20131119T234500Z
X-MICROSOFT-CDO-ALLDAYEVENT:FALSE
SUMMARY:Ribbon cutting-Clockwork Gamer
DESCRIPTION:5611 Colleyville Blvd.\, Ste.160
X-ALT-DESC;FMTTYPE=text/html:5611 Colleyville Blvd.\, Ste.160
LOCATION:5611 Colleyville Blvd.\, Ste. 160
UID:e.642.5995
SEQUENCE:3
DTSTAMP:20260422T130457Z
URL:https://business.colleyvillechamber.org/events/details/ribbon-cutting-clockwork-gamer-11-19-2013-5995
END:VEVENT

END:VCALENDAR
