BEGIN:VCALENDAR
VERSION:2.0
PRODID:-//ChamberMaster//Event Calendar 2.0//EN
METHOD:PUBLISH
X-PUBLISHED-TTL:P3D
REFRESH-INTERVAL:P3D
CALSCALE:GREGORIAN
BEGIN:VEVENT
DTSTART:20131106T223000Z
DTEND:20131107T010000Z
X-MICROSOFT-CDO-ALLDAYEVENT:FALSE
SUMMARY:Ribbon Cutting Combined Chamber - Simons Agency
DESCRIPTION:Simons Agency LLC will be having a ribbon cutting on November 6th 2013.  We just recently went from a Home Based business to getting two office spaces and we are looking forward to seeing everyone one come out on this special day\,  the Owner - Brandee Simons' Birthday! \n\n\n\nWe look forward to seeing you there -\n\n5750 Rufe Snow Dr Suite 140-141 North Richland Hills TX 76180\n\n\n\nThank you so much\,\n\nBrandee Simons
X-ALT-DESC;FMTTYPE=text/html:Simons Agency LLC will be having a ribbon cutting on November 6th 2013.&nbsp\; We just recently went from a Home Based business to getting two office spaces and we are looking forward to seeing everyone one come out on this special day\,&nbsp\; the Owner - Brandee Simons&#39\; Birthday!&nbsp\;<br />\n<br />\nWe look forward to seeing you there -<br />\n5750 Rufe Snow Dr Suite 140-141 North Richland Hills TX 76180<br />\n<br />\nThank you so much\,<br />\nBrandee Simons
LOCATION:5750 Rufe Snow Dr Suite 140 - 141 North Richland Hills TX 76180
UID:e.642.5714
SEQUENCE:3
DTSTAMP:20260422T130729Z
URL:https://business.colleyvillechamber.org/events/details/ribbon-cutting-combined-chamber-simons-agency-11-06-2013-5714
END:VEVENT

END:VCALENDAR
