BEGIN:VCALENDAR
VERSION:2.0
PRODID:-//ChamberMaster//Event Calendar 2.0//EN
METHOD:PUBLISH
X-PUBLISHED-TTL:P3D
REFRESH-INTERVAL:P3D
CALSCALE:GREGORIAN
BEGIN:VEVENT
DTSTART:20120419T213000Z
DTEND:20120419T223000Z
X-MICROSOFT-CDO-ALLDAYEVENT:FALSE
SUMMARY:Ribbon Cutting - Cotton Belt Trail Phase II
DESCRIPTION:
X-ALT-DESC;FMTTYPE=text/html:
LOCATION:Parking is available at L.D. Lockett Park 315 L.D. Lockett Road
UID:e.642.5035
SEQUENCE:3
DTSTAMP:20260423T195938Z
URL:https://business.colleyvillechamber.org/events/details/ribbon-cutting-cotton-belt-trail-phase-ii-04-19-2012-5035
END:VEVENT

END:VCALENDAR
