BEGIN:VCALENDAR
VERSION:2.0
PRODID:-//ChamberMaster//Event Calendar 2.0//EN
METHOD:PUBLISH
X-PUBLISHED-TTL:P3D
REFRESH-INTERVAL:P3D
CALSCALE:GREGORIAN
BEGIN:VEVENT
DTSTART:20150430T220000Z
DTEND:20150430T230000Z
X-MICROSOFT-CDO-ALLDAYEVENT:FALSE
SUMMARY:Ribbon Cutting - Darnell Dentistry
DESCRIPTION:180 S. White Chapel Blvd. Ste. 160\, Southlake\, TX 76092\n\nContact - Veronica Darnell\n\n817-488-3020
X-ALT-DESC;FMTTYPE=text/html:<p><font color="#3b3b3b" size="1"><font color="#3b3b3b" size="1"><span style="font-size: 14px\;">180 S. White Chapel Blvd. Ste. 160\, Southlake\, TX 76092<br />\nContact - Veronica Darnell<br />\n817-488-3020&nbsp\;</span></font></font><br />\n&nbsp\;</p>\n
LOCATION:
UID:e.642.7502
SEQUENCE:3
DTSTAMP:20260421T100126Z
URL:https://business.colleyvillechamber.org/events/details/ribbon-cutting-darnell-dentistry-04-30-2015-7502
END:VEVENT

END:VCALENDAR
