BEGIN:VCALENDAR
VERSION:2.0
PRODID:-//ChamberMaster//Event Calendar 2.0//EN
METHOD:PUBLISH
X-PUBLISHED-TTL:P3D
REFRESH-INTERVAL:P3D
CALSCALE:GREGORIAN
BEGIN:VEVENT
DTSTART:20130919T220000Z
DTEND:20130919T233000Z
X-MICROSOFT-CDO-ALLDAYEVENT:FALSE
SUMMARY:Ribbon Cutting-Davenport Motor Company
DESCRIPTION:Please join us for a Grand-Opening Ribbon Cutting event with appetizers and beverages!!
X-ALT-DESC;FMTTYPE=text/html:Please join us for a Grand-Opening Ribbon Cutting&nbsp\;event with appetizers and beverages!!
LOCATION:6800 Colleyville Blvd\, Colleyville
UID:e.642.5721
SEQUENCE:3
DTSTAMP:20260422T163316Z
URL:https://business.colleyvillechamber.org/events/details/ribbon-cutting-davenport-motor-company-09-19-2013-5721
END:VEVENT

END:VCALENDAR
