BEGIN:VCALENDAR
VERSION:2.0
PRODID:-//ChamberMaster//Event Calendar 2.0//EN
METHOD:PUBLISH
X-PUBLISHED-TTL:P3D
REFRESH-INTERVAL:P3D
CALSCALE:GREGORIAN
BEGIN:VEVENT
DTSTART:20140715T220000Z
DTEND:20140715T230000Z
X-MICROSOFT-CDO-ALLDAYEVENT:FALSE
SUMMARY:Ribbon Cutting - dentaLeaf
DESCRIPTION:dentaLeaf\n\n6207 Colleyville Blvd.\, Ste. 150\n\nColleyville
X-ALT-DESC;FMTTYPE=text/html:dentaLeaf<br />\n6207 Colleyville Blvd.\, Ste. 150<br />\nColleyville
LOCATION:
UID:e.642.6899
SEQUENCE:3
DTSTAMP:20260421T235435Z
URL:https://business.colleyvillechamber.org/events/details/ribbon-cutting-dentaleaf-07-15-2014-6899
END:VEVENT

END:VCALENDAR
