BEGIN:VCALENDAR
VERSION:2.0
PRODID:-//ChamberMaster//Event Calendar 2.0//EN
METHOD:PUBLISH
X-PUBLISHED-TTL:P3D
REFRESH-INTERVAL:P3D
CALSCALE:GREGORIAN
BEGIN:VEVENT
DTSTART:20140701T220000Z
DTEND:20140701T230000Z
X-MICROSOFT-CDO-ALLDAYEVENT:FALSE
SUMMARY:Ribbon Cutting - Dunn Acupuncture
DESCRIPTION:5008 Thompson Terrace\n\nColleyville\, TX  76034\n\nContact:  Rex Dunn
X-ALT-DESC;FMTTYPE=text/html:5008 Thompson Terrace<br />\nColleyville\, TX&nbsp\; 76034<br />\nContact:&nbsp\; Rex Dunn<br />\n<br />\n<br />\n&nbsp\;
LOCATION:
UID:e.642.6889
SEQUENCE:3
DTSTAMP:20260421T235705Z
URL:https://business.colleyvillechamber.org/events/details/ribbon-cutting-dunn-acupuncture-07-01-2014-6889
END:VEVENT

END:VCALENDAR
