BEGIN:VCALENDAR
VERSION:2.0
PRODID:-//ChamberMaster//Event Calendar 2.0//EN
METHOD:PUBLISH
X-PUBLISHED-TTL:P3D
REFRESH-INTERVAL:P3D
CALSCALE:GREGORIAN
BEGIN:VEVENT
DTSTART:20150306T230000Z
DTEND:20150307T000000Z
X-MICROSOFT-CDO-ALLDAYEVENT:FALSE
SUMMARY:Ribbon Cutting - Eatzi's Market and Bakery
DESCRIPTION:1200 W. State Hwy. 114\n\nGrapevine\, TX  76051\n\n214-763-0539
X-ALT-DESC;FMTTYPE=text/html:1200 W. State Hwy. 114<br />\nGrapevine\, TX&nbsp\; 76051<br />\n214-763-0539
LOCATION:
UID:e.642.7534
SEQUENCE:3
DTSTAMP:20260421T112826Z
URL:https://business.colleyvillechamber.org/events/details/ribbon-cutting-eatzi-s-market-and-bakery-03-06-2015-7534
END:VEVENT

END:VCALENDAR
