BEGIN:VCALENDAR
VERSION:2.0
PRODID:-//ChamberMaster//Event Calendar 2.0//EN
METHOD:PUBLISH
X-PUBLISHED-TTL:P3D
REFRESH-INTERVAL:P3D
CALSCALE:GREGORIAN
BEGIN:VEVENT
DTSTART:20121206T230000Z
DTEND:20121207T000000Z
X-MICROSOFT-CDO-ALLDAYEVENT:FALSE
SUMMARY:Ribbon Cutting - Edward Jones Tim Funderburk
DESCRIPTION:Edward Jones - Tim Funderburk\n\n1117 Glade Rd.\, Ste. 120\n\nColleyville
X-ALT-DESC;FMTTYPE=text/html:Edward Jones - Tim Funderburk<br />\n1117 Glade Rd.\, Ste. 120<br />\nColleyville
LOCATION:
UID:e.642.5137
SEQUENCE:3
DTSTAMP:20260423T070639Z
URL:https://business.colleyvillechamber.org/events/details/ribbon-cutting-edward-jones-tim-funderburk-12-06-2012-5137
END:VEVENT

END:VCALENDAR
