BEGIN:VCALENDAR
VERSION:2.0
PRODID:-//ChamberMaster//Event Calendar 2.0//EN
METHOD:PUBLISH
X-PUBLISHED-TTL:P3D
REFRESH-INTERVAL:P3D
CALSCALE:GREGORIAN
BEGIN:VEVENT
DTSTART:20141204T230000Z
DTEND:20141205T000000Z
X-MICROSOFT-CDO-ALLDAYEVENT:FALSE
SUMMARY:Ribbon Cutting - Elements Massage
DESCRIPTION:4843 Colleyville Blvd.\n\nSuite 231\n\nColleyville\, TX\n\nColleyville Downs
X-ALT-DESC;FMTTYPE=text/html:4843 Colleyville Blvd.<br />\nSuite 231<br />\nColleyville\, TX<br />\nColleyville Downs
LOCATION:
UID:e.642.7251
SEQUENCE:3
DTSTAMP:20260421T153227Z
URL:https://business.colleyvillechamber.org/events/details/ribbon-cutting-elements-massage-12-04-2014-7251
END:VEVENT

END:VCALENDAR
