BEGIN:VCALENDAR
VERSION:2.0
PRODID:-//ChamberMaster//Event Calendar 2.0//EN
METHOD:PUBLISH
X-PUBLISHED-TTL:P3D
REFRESH-INTERVAL:P3D
CALSCALE:GREGORIAN
BEGIN:VEVENT
DTSTART:20140325T220000Z
DTEND:20140325T230000Z
X-MICROSOFT-CDO-ALLDAYEVENT:FALSE
SUMMARY:Ribbon Cutting-Explore Horizons
DESCRIPTION:
X-ALT-DESC;FMTTYPE=text/html:
LOCATION:5505 Colleyville Blvd. Suite 203 Colleyville\, TX
UID:e.642.6830
SEQUENCE:3
DTSTAMP:20260422T065316Z
URL:https://business.colleyvillechamber.org/events/details/ribbon-cutting-explore-horizons-03-25-2014-6830
END:VEVENT

END:VCALENDAR
