BEGIN:VCALENDAR
VERSION:2.0
PRODID:-//ChamberMaster//Event Calendar 2.0//EN
METHOD:PUBLISH
X-PUBLISHED-TTL:P3D
REFRESH-INTERVAL:P3D
CALSCALE:GREGORIAN
BEGIN:VEVENT
DTSTART:20141216T230000Z
DTEND:20141217T000000Z
X-MICROSOFT-CDO-ALLDAYEVENT:FALSE
SUMMARY:Ribbon Cutting - Fit For Life
DESCRIPTION:Ribbon Cutting for Fit For Life\n\nOwner:  Bob Fariss\n\n4906 Colleyville Blvd.\, Suite 214\n\nColleyville TX\n\nBeer and snacks will be served.
X-ALT-DESC;FMTTYPE=text/html:Ribbon Cutting for Fit For Life<br />\nOwner:&nbsp\; Bob Fariss<br />\n4906 Colleyville Blvd.\, Suite 214<br />\nColleyville TX<br />\nBeer and snacks will be served.<br />\n&nbsp\;
LOCATION:
UID:e.642.7244
SEQUENCE:3
DTSTAMP:20260421T172155Z
URL:https://business.colleyvillechamber.org/events/details/ribbon-cutting-fit-for-life-12-16-2014-7244
END:VEVENT

END:VCALENDAR
