BEGIN:VCALENDAR
VERSION:2.0
PRODID:-//ChamberMaster//Event Calendar 2.0//EN
METHOD:PUBLISH
X-PUBLISHED-TTL:P3D
REFRESH-INTERVAL:P3D
CALSCALE:GREGORIAN
BEGIN:VEVENT
DTSTART:20130321T210000Z
DTEND:20130321T233000Z
X-MICROSOFT-CDO-ALLDAYEVENT:FALSE
SUMMARY:Ribbon Cutting & Grand Opening - US Memory Care - Colleyville
DESCRIPTION:
X-ALT-DESC;FMTTYPE=text/html:
LOCATION:8100 Precinct Line Rd. Colleyville\, TX 76034 Owner: Alan J. Young
UID:e.642.5188
SEQUENCE:3
DTSTAMP:20260423T020254Z
URL:https://business.colleyvillechamber.org/events/details/ribbon-cutting-grand-opening-us-memory-care-colleyville-03-21-2013-5188
END:VEVENT

END:VCALENDAR
