BEGIN:VCALENDAR
VERSION:2.0
PRODID:-//ChamberMaster//Event Calendar 2.0//EN
METHOD:PUBLISH
X-PUBLISHED-TTL:P3D
REFRESH-INTERVAL:P3D
CALSCALE:GREGORIAN
BEGIN:VEVENT
DTSTART:20131107T230000Z
DTEND:20131108T003000Z
X-MICROSOFT-CDO-ALLDAYEVENT:FALSE
SUMMARY:Ribbon Cutting Grapevine Dental Care
DESCRIPTION:Catered by Chelsea's Pizza!
X-ALT-DESC;FMTTYPE=text/html:<span style="color: rgb(255\, 0\, 0)\;">Catered by Chelsea&#39\;s Pizza!</span>
LOCATION:2631 Ira E. Woods Grapevine\, TX
UID:e.642.5982
SEQUENCE:3
DTSTAMP:20260422T130642Z
URL:https://business.colleyvillechamber.org/events/details/ribbon-cutting-grapevine-dental-care-11-07-2013-5982
END:VEVENT

END:VCALENDAR
