BEGIN:VCALENDAR
VERSION:2.0
PRODID:-//ChamberMaster//Event Calendar 2.0//EN
METHOD:PUBLISH
X-PUBLISHED-TTL:P3D
REFRESH-INTERVAL:P3D
CALSCALE:GREGORIAN
BEGIN:VEVENT
DTSTART:20150115T230000Z
DTEND:20150116T000000Z
X-MICROSOFT-CDO-ALLDAYEVENT:FALSE
SUMMARY:Ribbon Cutting - Healthcare by Design
DESCRIPTION:Ribbon Cutting for Healthcare by Design\n\nDr. Scott Lauer\n\n6213 Colleyville Blvd.\, Suite 150\n\nColleyville\, TX  76034
X-ALT-DESC;FMTTYPE=text/html:Ribbon Cutting for Healthcare by Design<br />\nDr. Scott Lauer<br />\n6213 Colleyville Blvd.\, Suite 150<br />\nColleyville\, TX&nbsp\; 76034
LOCATION:
UID:e.642.7263
SEQUENCE:3
DTSTAMP:20260421T152839Z
URL:https://business.colleyvillechamber.org/events/details/ribbon-cutting-healthcare-by-design-01-15-2015-7263
END:VEVENT

END:VCALENDAR
