BEGIN:VCALENDAR
VERSION:2.0
PRODID:-//ChamberMaster//Event Calendar 2.0//EN
METHOD:PUBLISH
X-PUBLISHED-TTL:P3D
REFRESH-INTERVAL:P3D
CALSCALE:GREGORIAN
BEGIN:VEVENT
DTSTART:20150326T220000Z
DTEND:20150326T230000Z
X-MICROSOFT-CDO-ALLDAYEVENT:FALSE
SUMMARY:Ribbon Cutting - HealthSource Chiropractic
DESCRIPTION:Ribbon Cutting\n\nHealthSource Chiropractic\n\n6225 Colleyville Blvd.\, Ste. 125\n\nColleyville\, TX  76034\n\nOwner:  Shashi Upadhyaya
X-ALT-DESC;FMTTYPE=text/html:Ribbon Cutting<br />\nHealthSource Chiropractic<br />\n6225 Colleyville Blvd.\, Ste. 125<br />\nColleyville\, TX&nbsp\; 76034<br />\nOwner:&nbsp\; Shashi Upadhyaya<br />\n&nbsp\;
LOCATION:
UID:e.642.7521
SEQUENCE:3
DTSTAMP:20260421T112437Z
URL:https://business.colleyvillechamber.org/events/details/ribbon-cutting-healthsource-chiropractic-03-26-2015-7521
END:VEVENT

END:VCALENDAR
