BEGIN:VCALENDAR
VERSION:2.0
PRODID:-//ChamberMaster//Event Calendar 2.0//EN
METHOD:PUBLISH
X-PUBLISHED-TTL:P3D
REFRESH-INTERVAL:P3D
CALSCALE:GREGORIAN
BEGIN:VEVENT
DTSTART:20130718T220000Z
DTEND:20130718T224500Z
X-MICROSOFT-CDO-ALLDAYEVENT:FALSE
SUMMARY:Ribbon cutting Hexter-Fair First American Title
DESCRIPTION:
X-ALT-DESC;FMTTYPE=text/html:
LOCATION:5665 Colleyville Blvd.\, Suite 200 Colleyville\, Tx 76034
UID:e.642.5675
SEQUENCE:3
DTSTAMP:20260422T210026Z
URL:https://business.colleyvillechamber.org/events/details/ribbon-cutting-hexter-fair-first-american-title-07-18-2013-5675
END:VEVENT

END:VCALENDAR
