BEGIN:VCALENDAR
VERSION:2.0
PRODID:-//ChamberMaster//Event Calendar 2.0//EN
METHOD:PUBLISH
X-PUBLISHED-TTL:P3D
REFRESH-INTERVAL:P3D
CALSCALE:GREGORIAN
BEGIN:VEVENT
DTSTART:20130418T220000Z
DTEND:20130418T233000Z
X-MICROSOFT-CDO-ALLDAYEVENT:FALSE
SUMMARY:Ribbon Cutting - Home Care Assistance
DESCRIPTION:Joint Ribbon Cutting - Colleyville and Grapevine Chambers
X-ALT-DESC;FMTTYPE=text/html:Joint Ribbon Cutting - Colleyville and Grapevine Chambers
LOCATION:5712 Colleyville Blvd.\, Suite 120 Colleyville\, TX
UID:e.642.5192
SEQUENCE:3
DTSTAMP:20260423T001318Z
URL:https://business.colleyvillechamber.org/events/details/ribbon-cutting-home-care-assistance-04-18-2013-5192
END:VEVENT

END:VCALENDAR
