BEGIN:VCALENDAR
VERSION:2.0
PRODID:-//ChamberMaster//Event Calendar 2.0//EN
METHOD:PUBLISH
X-PUBLISHED-TTL:P3D
REFRESH-INTERVAL:P3D
CALSCALE:GREGORIAN
BEGIN:VEVENT
DTSTART:20120726T220000Z
DTEND:20120726T230000Z
X-MICROSOFT-CDO-ALLDAYEVENT:FALSE
SUMMARY:Ribbon Cutting - Home Theater Technologies
DESCRIPTION:Home Theater Technologies\, Inc. Ribbon Cutting\n\n6100 Colleyville Blvd.\, Suite 140\n\n817-380-2000\n\nReps:  James Westbrook and June LaGuardia
X-ALT-DESC;FMTTYPE=text/html:Home Theater Technologies\, Inc. Ribbon Cutting<br />\n6100 Colleyville Blvd.\, Suite 140<br />\n817-380-2000<br />\nReps:&nbsp\; James Westbrook and June LaGuardia
LOCATION:
UID:e.642.5064
SEQUENCE:3
DTSTAMP:20260423T152442Z
URL:https://business.colleyvillechamber.org/events/details/ribbon-cutting-home-theater-technologies-07-26-2012-5064
END:VEVENT

END:VCALENDAR
