BEGIN:VCALENDAR
VERSION:2.0
PRODID:-//ChamberMaster//Event Calendar 2.0//EN
METHOD:PUBLISH
X-PUBLISHED-TTL:P3D
REFRESH-INTERVAL:P3D
CALSCALE:GREGORIAN
BEGIN:VEVENT
DTSTART:20150319T163000Z
DTEND:20150319T173000Z
X-MICROSOFT-CDO-ALLDAYEVENT:FALSE
SUMMARY:Ribbon Cutting - Hormonal Health & Wellness Center of Southlake
DESCRIPTION:Hormonal Health & Wellness Center of Southlake\n\nRibbon Cutting with Southlake Chamber\n\n11:30 a.m.\n\nNew Location:  620 N. Kimball Ave. Suite 100\, Southlake\, TX
X-ALT-DESC;FMTTYPE=text/html:Hormonal Health &amp\; Wellness Center of Southlake<br />\nRibbon Cutting with Southlake Chamber<br />\n11:30 a.m.<br />\n<strong>New Location:&nbsp\; 620 N. Kimball Ave. Suite 100\, Southlake\, TX</strong>
LOCATION:
UID:e.642.7508
SEQUENCE:3
DTSTAMP:20260421T124819Z
URL:https://business.colleyvillechamber.org/events/details/ribbon-cutting-hormonal-health-wellness-center-of-southlake-03-19-2015-7508
END:VEVENT

END:VCALENDAR
