BEGIN:VCALENDAR
VERSION:2.0
PRODID:-//ChamberMaster//Event Calendar 2.0//EN
METHOD:PUBLISH
X-PUBLISHED-TTL:P3D
REFRESH-INTERVAL:P3D
CALSCALE:GREGORIAN
BEGIN:VEVENT
DTSTART:20140320T220000Z
DTEND:20140321T000000Z
X-MICROSOFT-CDO-ALLDAYEVENT:FALSE
SUMMARY:Ribbon Cutting-J. Hilburn
DESCRIPTION:More information to follow
X-ALT-DESC;FMTTYPE=text/html:More information to follow
LOCATION:T te T te 3919- C Colleyville Blvd Colleyville\, TX 76034 817-856-9383 Click here to edit...
UID:e.642.6827
SEQUENCE:3
DTSTAMP:20260422T065751Z
URL:https://business.colleyvillechamber.org/events/details/ribbon-cutting-j-hilburn-03-20-2014-6827
END:VEVENT

END:VCALENDAR
