BEGIN:VCALENDAR
VERSION:2.0
PRODID:-//ChamberMaster//Event Calendar 2.0//EN
METHOD:PUBLISH
X-PUBLISHED-TTL:P3D
REFRESH-INTERVAL:P3D
CALSCALE:GREGORIAN
BEGIN:VEVENT
DTSTART:20130813T213000Z
DTEND:20130813T233000Z
X-MICROSOFT-CDO-ALLDAYEVENT:FALSE
SUMMARY:Ribbon cutting Jason Ridley-Nationwide Insurance Agency
DESCRIPTION:Join us for our grand opening and ribbon cutting in Colleyville to celebrate the relocation of the Jason Ridley Agency. Enjoy an evening of beverages\, hors d'oeuvres\, socializing and a chance to win one of many door prizes.\n\nTime Change!!
X-ALT-DESC;FMTTYPE=text/html:<span style="font-size: 10pt\;"><span style="font-family: arial\,sans-serif\;">Join us for our grand opening and ribbon cutting in Colleyville to celebrate the relocation of the Jason Ridley Agency. Enjoy an evening of beverages\, hors d&#39\;oeuvres\, socializing and a chance to win one of many door prizes.<br />\n<strong><span style="color: rgb(255\, 0\, 0)\;"><span style="font-size: 14px\;">Time Change!!</span></span></strong></span></span><br />\n<br />\n<br />\n
LOCATION:5303 Colleyville Blvd\, Ste A Colleyville\, TX 76034
UID:e.642.5705
SEQUENCE:3
DTSTAMP:20260422T175340Z
URL:https://business.colleyvillechamber.org/events/details/ribbon-cutting-jason-ridley-nationwide-insurance-agency-08-13-2013-5705
END:VEVENT

END:VCALENDAR
