BEGIN:VCALENDAR
VERSION:2.0
PRODID:-//ChamberMaster//Event Calendar 2.0//EN
METHOD:PUBLISH
X-PUBLISHED-TTL:P3D
REFRESH-INTERVAL:P3D
CALSCALE:GREGORIAN
BEGIN:VEVENT
DTSTART:20130319T220000Z
DTEND:20130319T230000Z
X-MICROSOFT-CDO-ALLDAYEVENT:FALSE
SUMMARY:Ribbon Cutting - LeSara Cupcake Bar
DESCRIPTION:
X-ALT-DESC;FMTTYPE=text/html:
LOCATION:5615 Colleyville Blvd. Ste. 420 Colleyville\, TX 76034
UID:e.642.5189
SEQUENCE:3
DTSTAMP:20260423T015849Z
URL:https://business.colleyvillechamber.org/events/details/ribbon-cutting-lesara-cupcake-bar-03-19-2013-5189
END:VEVENT

END:VCALENDAR
