BEGIN:VCALENDAR
VERSION:2.0
PRODID:-//ChamberMaster//Event Calendar 2.0//EN
METHOD:PUBLISH
X-PUBLISHED-TTL:P3D
REFRESH-INTERVAL:P3D
CALSCALE:GREGORIAN
BEGIN:VEVENT
DTSTART:20140805T220000Z
DTEND:20140805T230000Z
X-MICROSOFT-CDO-ALLDAYEVENT:FALSE
SUMMARY:Ribbon Cutting - Low T Center
DESCRIPTION:5209 Heritage Ave. Suite 510\n\nColleyville\, TX
X-ALT-DESC;FMTTYPE=text/html:5209 Heritage Ave. Suite 510<br />\nColleyville\, TX
LOCATION:
UID:e.642.6914
SEQUENCE:3
DTSTAMP:20260421T221526Z
URL:https://business.colleyvillechamber.org/events/details/ribbon-cutting-low-t-center-08-05-2014-6914
END:VEVENT

END:VCALENDAR
