BEGIN:VCALENDAR
VERSION:2.0
PRODID:-//ChamberMaster//Event Calendar 2.0//EN
METHOD:PUBLISH
X-PUBLISHED-TTL:P3D
REFRESH-INTERVAL:P3D
CALSCALE:GREGORIAN
BEGIN:VEVENT
DTSTART:20141209T233000Z
DTEND:20141210T003000Z
X-MICROSOFT-CDO-ALLDAYEVENT:FALSE
SUMMARY:Ribbon Cutting - Mac's
DESCRIPTION:Ribbon Cutting at Mac's\n\n909 S. Main St.\, Ste. 110\n\nGrapevine\, TX
X-ALT-DESC;FMTTYPE=text/html:Ribbon Cutting at Mac&#39\;s<br />\n909 S. Main St.\, Ste. 110<br />\nGrapevine\, TX&nbsp\;<br />\n&nbsp\;
LOCATION:
UID:e.642.7035
SEQUENCE:3
DTSTAMP:20260421T153446Z
URL:https://business.colleyvillechamber.org/events/details/ribbon-cutting-mac-s-12-09-2014-7035
END:VEVENT

END:VCALENDAR
