BEGIN:VCALENDAR
VERSION:2.0
PRODID:-//ChamberMaster//Event Calendar 2.0//EN
METHOD:PUBLISH
X-PUBLISHED-TTL:P3D
REFRESH-INTERVAL:P3D
CALSCALE:GREGORIAN
BEGIN:VEVENT
DTSTART:20140408T220000Z
DTEND:20140408T224500Z
X-MICROSOFT-CDO-ALLDAYEVENT:FALSE
SUMMARY:Ribbon Cutting- Machelle's Boutique
DESCRIPTION:
X-ALT-DESC;FMTTYPE=text/html:
LOCATION:Machelle's Machelle Dennis - Owner 5611 Colleyville Blvd. Ste 200 Colleyville\, TX 76034 (817) 393-0082 machellsboutique@gmail.com
UID:e.642.6829
SEQUENCE:3
DTSTAMP:20260422T065854Z
URL:https://business.colleyvillechamber.org/events/details/ribbon-cutting-machelle-s-boutique-04-08-2014-6829
END:VEVENT

END:VCALENDAR
