BEGIN:VCALENDAR
VERSION:2.0
PRODID:-//ChamberMaster//Event Calendar 2.0//EN
METHOD:PUBLISH
X-PUBLISHED-TTL:P3D
REFRESH-INTERVAL:P3D
CALSCALE:GREGORIAN
BEGIN:VEVENT
DTSTART:20141104T230000Z
DTEND:20141105T000000Z
X-MICROSOFT-CDO-ALLDAYEVENT:FALSE
SUMMARY:Ribbon Cutting - Madrid Global Cleaning
DESCRIPTION:Madrid Global Cleaning\n\nOwners:  Matt Madrid and Becky Cannon\n\nHosted by Jason Ridley Agency - Nationwide Insurance\n\n5303 Colleyville Blvd.\, Suite A - Courtyard\n\nColleyville\, TX  76034\n\nHors d' oeuvres provided by El Paisa.
X-ALT-DESC;FMTTYPE=text/html:Madrid Global Cleaning<br />\nOwners:&nbsp\; Matt Madrid and Becky Cannon<br />\nHosted by Jason Ridley Agency - Nationwide Insurance<br />\n5303 Colleyville Blvd.\, Suite A - Courtyard<br />\nColleyville\, TX&nbsp\; 76034<br />\nHors d&#39\; oeuvres provided by El Paisa.
LOCATION:
UID:e.642.6948
SEQUENCE:3
DTSTAMP:20260421T172202Z
URL:https://business.colleyvillechamber.org/events/details/ribbon-cutting-madrid-global-cleaning-11-04-2014-6948
END:VEVENT

END:VCALENDAR
