BEGIN:VCALENDAR
VERSION:2.0
PRODID:-//ChamberMaster//Event Calendar 2.0//EN
METHOD:PUBLISH
X-PUBLISHED-TTL:P3D
REFRESH-INTERVAL:P3D
CALSCALE:GREGORIAN
BEGIN:VEVENT
DTSTART:20150113T230000Z
DTEND:20150114T000000Z
X-MICROSOFT-CDO-ALLDAYEVENT:FALSE
SUMMARY:Ribbon Cutting - Matt's Tex Mex
DESCRIPTION:4843 Colleyville Blvd.\n\nColleyville\, TX  76034\n\nManager\, Mikey Helland
X-ALT-DESC;FMTTYPE=text/html:4843 Colleyville Blvd.<br />\nColleyville\, TX&nbsp\; 76034<br />\nManager\, Mikey Helland
LOCATION:
UID:e.642.7469
SEQUENCE:3
DTSTAMP:20260421T141523Z
URL:https://business.colleyvillechamber.org/events/details/ribbon-cutting-matt-s-tex-mex-01-13-2015-7469
END:VEVENT

END:VCALENDAR
