BEGIN:VCALENDAR
VERSION:2.0
PRODID:-//ChamberMaster//Event Calendar 2.0//EN
METHOD:PUBLISH
X-PUBLISHED-TTL:P3D
REFRESH-INTERVAL:P3D
CALSCALE:GREGORIAN
BEGIN:VEVENT
DTSTART:20150219T230000Z
DTEND:20150220T000000Z
X-MICROSOFT-CDO-ALLDAYEVENT:FALSE
SUMMARY:Ribbon Cutting - Menchies Frozen Yogurt
DESCRIPTION:Ribbon Cutting\n\n4709 Colleyville Blvd.\n\nSuite 520\n\nColleyville\, TX  76034\n\nOwner:  Donna Brown
X-ALT-DESC;FMTTYPE=text/html:Ribbon Cutting<br />\n4709 Colleyville Blvd.<br />\nSuite 520<br />\nColleyville\, TX&nbsp\; 76034<br />\nOwner:&nbsp\; Donna Brown
LOCATION:
UID:e.642.7492
SEQUENCE:3
DTSTAMP:20260421T124453Z
URL:https://business.colleyvillechamber.org/events/details/ribbon-cutting-menchies-frozen-yogurt-02-19-2015-7492
END:VEVENT

END:VCALENDAR
