BEGIN:VCALENDAR
VERSION:2.0
PRODID:-//ChamberMaster//Event Calendar 2.0//EN
METHOD:PUBLISH
X-PUBLISHED-TTL:P3D
REFRESH-INTERVAL:P3D
CALSCALE:GREGORIAN
BEGIN:VEVENT
DTSTART:20130212T230000Z
DTEND:20130213T000000Z
X-MICROSOFT-CDO-ALLDAYEVENT:FALSE
SUMMARY:Ribbon Cutting - Mercy House
DESCRIPTION:603 Field Street\n\nColleyville\n\nContact:  Susan Hulet
X-ALT-DESC;FMTTYPE=text/html:603 Field Street<br />\nColleyville<br />\nContact:&nbsp\; Susan Hulet
LOCATION:
UID:e.642.5157
SEQUENCE:3
DTSTAMP:20260423T034723Z
URL:https://business.colleyvillechamber.org/events/details/ribbon-cutting-mercy-house-02-12-2013-5157
END:VEVENT

END:VCALENDAR
