BEGIN:VCALENDAR
VERSION:2.0
PRODID:-//ChamberMaster//Event Calendar 2.0//EN
METHOD:PUBLISH
X-PUBLISHED-TTL:P3D
REFRESH-INTERVAL:P3D
CALSCALE:GREGORIAN
BEGIN:VEVENT
DTSTART:20140722T220000Z
DTEND:20140722T230000Z
X-MICROSOFT-CDO-ALLDAYEVENT:FALSE
SUMMARY:Ribbon Cutting - Meyer's Pool Care
DESCRIPTION:Meyer's Pool Care\n\n1900 Industral Blvd.\, #206\n\nColleyville\, TX  76034
X-ALT-DESC;FMTTYPE=text/html:Meyer&#39\;s Pool Care<br />\n1900 Industral Blvd.\, #206<br />\nColleyville\, TX&nbsp\; 76034
LOCATION:
UID:e.642.6902
SEQUENCE:3
DTSTAMP:20260422T013717Z
URL:https://business.colleyvillechamber.org/events/details/ribbon-cutting-meyer-s-pool-care-07-22-2014-6902
END:VEVENT

END:VCALENDAR
