BEGIN:VCALENDAR
VERSION:2.0
PRODID:-//ChamberMaster//Event Calendar 2.0//EN
METHOD:PUBLISH
X-PUBLISHED-TTL:P3D
REFRESH-INTERVAL:P3D
CALSCALE:GREGORIAN
BEGIN:VEVENT
DTSTART:20150528T220000Z
DTEND:20150528T230000Z
X-MICROSOFT-CDO-ALLDAYEVENT:FALSE
SUMMARY:Ribbon Cutting - Mirage Fine Spirits
DESCRIPTION:4405 Colleyville Blvd.\n\nColleyville\, TX  76034\n\nContact:  Ataf "Henry" Mikhail\n\n817-577-4676
X-ALT-DESC;FMTTYPE=text/html:4405 Colleyville Blvd.<br />\nColleyville\, TX&nbsp\; 76034<br />\nContact:&nbsp\; Ataf &quot\;Henry&quot\; Mikhail<br />\n817-577-4676
LOCATION:
UID:e.642.7545
SEQUENCE:3
DTSTAMP:20260421T084213Z
URL:https://business.colleyvillechamber.org/events/details/ribbon-cutting-mirage-fine-spirits-05-28-2015-7545
END:VEVENT

END:VCALENDAR
