BEGIN:VCALENDAR
VERSION:2.0
PRODID:-//ChamberMaster//Event Calendar 2.0//EN
METHOD:PUBLISH
X-PUBLISHED-TTL:P3D
REFRESH-INTERVAL:P3D
CALSCALE:GREGORIAN
BEGIN:VEVENT
DTSTART:20141024T170000Z
DTEND:20141024T180000Z
X-MICROSOFT-CDO-ALLDAYEVENT:FALSE
SUMMARY:Ribbon Cutting - National Bank of Texas
DESCRIPTION:2080 Precinct Line Rd.\n\nHurst\, TX  76054\n\n817-428--9966\n\nRep:  Rebecca Hankins\, AVP/Business Development
X-ALT-DESC;FMTTYPE=text/html:2080 Precinct Line Rd.<br />\nHurst\, TX&nbsp\; 76054<br />\n817-428--9966<br />\nRep:&nbsp\; Rebecca Hankins\, AVP/Business Development
LOCATION:
UID:e.642.6913
SEQUENCE:3
DTSTAMP:20260421T190308Z
URL:https://business.colleyvillechamber.org/events/details/ribbon-cutting-national-bank-of-texas-10-24-2014-6913
END:VEVENT

END:VCALENDAR
