BEGIN:VCALENDAR
VERSION:2.0
PRODID:-//ChamberMaster//Event Calendar 2.0//EN
METHOD:PUBLISH
X-PUBLISHED-TTL:P3D
REFRESH-INTERVAL:P3D
CALSCALE:GREGORIAN
BEGIN:VEVENT
DTSTART:20140624T220000Z
DTEND:20140624T230000Z
X-MICROSOFT-CDO-ALLDAYEVENT:FALSE
SUMMARY:Ribbon Cutting-North Texas Snap Anniversary
DESCRIPTION:Multi-Chamber Anniversary Event
X-ALT-DESC;FMTTYPE=text/html:Multi-Chamber Anniversary Event
LOCATION:901 Clinic Drive Euless\, TX 76039
UID:e.642.6875
SEQUENCE:3
DTSTAMP:20260422T014454Z
URL:https://business.colleyvillechamber.org/events/details/ribbon-cutting-north-texas-snap-anniversary-06-24-2014-6875
END:VEVENT

END:VCALENDAR
