BEGIN:VCALENDAR
VERSION:2.0
PRODID:-//ChamberMaster//Event Calendar 2.0//EN
METHOD:PUBLISH
X-PUBLISHED-TTL:P3D
REFRESH-INTERVAL:P3D
CALSCALE:GREGORIAN
BEGIN:VEVENT
DTSTART:20120712T220000Z
DTEND:20120712T230000Z
X-MICROSOFT-CDO-ALLDAYEVENT:FALSE
SUMMARY:Ribbon Cutting - Off The Runway
DESCRIPTION:Off The Runway Ribbon Cutting\n\n5013 Colleyville Blvd.\, Suite 101\n\nColleyville\n\nRep/Owner:  Shaun Stephens
X-ALT-DESC;FMTTYPE=text/html:Off The Runway Ribbon Cutting<br />\n5013 Colleyville Blvd.\, Suite 101<br />\nColleyville<br />\nRep/Owner:&nbsp\; Shaun Stephens
LOCATION:
UID:e.642.5060
SEQUENCE:3
DTSTAMP:20260423T152544Z
URL:https://business.colleyvillechamber.org/events/details/ribbon-cutting-off-the-runway-07-12-2012-5060
END:VEVENT

END:VCALENDAR
