BEGIN:VCALENDAR
VERSION:2.0
PRODID:-//ChamberMaster//Event Calendar 2.0//EN
METHOD:PUBLISH
X-PUBLISHED-TTL:P3D
REFRESH-INTERVAL:P3D
CALSCALE:GREGORIAN
BEGIN:VEVENT
DTSTART:20120417T220000Z
DTEND:20120417T233000Z
X-MICROSOFT-CDO-ALLDAYEVENT:FALSE
SUMMARY:Ribbon Cutting - Off the Runway and The Hair Extension Room - CANCELED
DESCRIPTION:
X-ALT-DESC;FMTTYPE=text/html:
LOCATION:
UID:e.642.5046
SEQUENCE:3
DTSTAMP:20260423T212255Z
URL:https://business.colleyvillechamber.org/events/details/ribbon-cutting-off-the-runway-and-the-hair-extension-room-canceled-04-17-2012-5046
END:VEVENT

END:VCALENDAR
