BEGIN:VCALENDAR
VERSION:2.0
PRODID:-//ChamberMaster//Event Calendar 2.0//EN
METHOD:PUBLISH
X-PUBLISHED-TTL:P3D
REFRESH-INTERVAL:P3D
CALSCALE:GREGORIAN
BEGIN:VEVENT
DTSTART:20130606T220000Z
DTEND:20130606T233000Z
X-MICROSOFT-CDO-ALLDAYEVENT:FALSE
SUMMARY:Ribbon Cutting & Open House - Aspen Wealth Management
DESCRIPTION:Aspen Wealth Management\n\n5004 Thompson Terr.\, Suite 104\n\nColleyville\n\nContact:  Kay Allen
X-ALT-DESC;FMTTYPE=text/html:Aspen Wealth Management<br />\n5004 Thompson Terr.\, Suite 104<br />\nColleyville<br />\nContact:&nbsp\; Kay Allen
LOCATION:
UID:e.642.5643
SEQUENCE:3
DTSTAMP:20260422T223004Z
URL:https://business.colleyvillechamber.org/events/details/ribbon-cutting-open-house-aspen-wealth-management-06-06-2013-5643
END:VEVENT

END:VCALENDAR
