BEGIN:VCALENDAR
VERSION:2.0
PRODID:-//ChamberMaster//Event Calendar 2.0//EN
METHOD:PUBLISH
X-PUBLISHED-TTL:P3D
REFRESH-INTERVAL:P3D
CALSCALE:GREGORIAN
BEGIN:VEVENT
DTSTART:20141016T170000Z
DTEND:20141016T180000Z
X-MICROSOFT-CDO-ALLDAYEVENT:FALSE
SUMMARY:Ribbon Cutting - Orangetheory Fitness
DESCRIPTION:4709 Colleyville Blvd.\n\nSuite 500\n\nColleyville\, TX  76034
X-ALT-DESC;FMTTYPE=text/html:4709 Colleyville Blvd.<br />\nSuite 500<br />\nColleyville\, TX&nbsp\; 76034
LOCATION:
UID:e.642.6946
SEQUENCE:3
DTSTAMP:20260421T190237Z
URL:https://business.colleyvillechamber.org/events/details/ribbon-cutting-orangetheory-fitness-10-16-2014-6946
END:VEVENT

END:VCALENDAR
