BEGIN:VCALENDAR
VERSION:2.0
PRODID:-//ChamberMaster//Event Calendar 2.0//EN
METHOD:PUBLISH
X-PUBLISHED-TTL:P3D
REFRESH-INTERVAL:P3D
CALSCALE:GREGORIAN
BEGIN:VEVENT
DTSTART:20120621T220000Z
DTEND:20120621T233000Z
X-MICROSOFT-CDO-ALLDAYEVENT:FALSE
SUMMARY:Ribbon Cutting Paint and Sip with Friends
DESCRIPTION:
X-ALT-DESC;FMTTYPE=text/html:
LOCATION:3930 Glade Rd.\, Suite 117 Colleyville\, TX 76034
UID:e.642.5052
SEQUENCE:3
DTSTAMP:20260423T165257Z
URL:https://business.colleyvillechamber.org/events/details/ribbon-cutting-paint-and-sip-with-friends-06-21-2012-5052
END:VEVENT

END:VCALENDAR
