BEGIN:VCALENDAR
VERSION:2.0
PRODID:-//ChamberMaster//Event Calendar 2.0//EN
METHOD:PUBLISH
X-PUBLISHED-TTL:P3D
REFRESH-INTERVAL:P3D
CALSCALE:GREGORIAN
BEGIN:VEVENT
DTSTART:20120920T220000Z
DTEND:20120921T000000Z
X-MICROSOFT-CDO-ALLDAYEVENT:FALSE
SUMMARY:Ribbon Cutting - Park West Chiropractic
DESCRIPTION:Park West Chiropractic\n\n2750 William D Tate\, Ste. 200\n\nGrapevine\, TX  76051\n\n817-481-8060\n\n\n\nContacts:  Dr. Jerry Day and Tanya McCarthy
X-ALT-DESC;FMTTYPE=text/html:Park West Chiropractic<br />\n2750 William D Tate\, Ste. 200<br />\nGrapevine\, TX&nbsp\; 76051<br />\n817-481-8060<br />\n<br />\nContacts:&nbsp\; Dr. Jerry Day and Tanya McCarthy
LOCATION:
UID:e.642.5073
SEQUENCE:3
DTSTAMP:20260423T122046Z
URL:https://business.colleyvillechamber.org/events/details/ribbon-cutting-park-west-chiropractic-09-20-2012-5073
END:VEVENT

END:VCALENDAR
