BEGIN:VCALENDAR
VERSION:2.0
PRODID:-//ChamberMaster//Event Calendar 2.0//EN
METHOD:PUBLISH
X-PUBLISHED-TTL:P3D
REFRESH-INTERVAL:P3D
CALSCALE:GREGORIAN
BEGIN:VEVENT
DTSTART:20121011T220000Z
DTEND:20121012T000000Z
X-MICROSOFT-CDO-ALLDAYEVENT:FALSE
SUMMARY:Ribbon Cutting - Pediatric Denistry of Colleyville
DESCRIPTION:Ribbon Cutting / Open House\n\n4109 Brown Trail\, Ste. 102\n\nColleyville\, TX \n\n817-428-7704
X-ALT-DESC;FMTTYPE=text/html:Ribbon Cutting / Open House<br />\n4109 Brown Trail\, Ste. 102<br />\nColleyville\, TX&nbsp\;<br />\n817-428-7704
LOCATION:
UID:e.642.5086
SEQUENCE:3
DTSTAMP:20260423T110427Z
URL:https://business.colleyvillechamber.org/events/details/ribbon-cutting-pediatric-denistry-of-colleyville-10-11-2012-5086
END:VEVENT

END:VCALENDAR
