BEGIN:VCALENDAR
VERSION:2.0
PRODID:-//ChamberMaster//Event Calendar 2.0//EN
METHOD:PUBLISH
X-PUBLISHED-TTL:P3D
REFRESH-INTERVAL:P3D
CALSCALE:GREGORIAN
BEGIN:VEVENT
DTSTART:20130418T163000Z
DTEND:20130418T173000Z
X-MICROSOFT-CDO-ALLDAYEVENT:FALSE
SUMMARY:Ribbon Cutting - Providence Bank
DESCRIPTION:Providence Bank\n\n325 E. Southlake Blvd.\n\nSouthlake\, TX  76092\n\n\n\nJoint Chamber Ribbon Cutting with Northwest Metroport Chamber of Commerce.
X-ALT-DESC;FMTTYPE=text/html:Providence Bank<br />\n325 E. Southlake Blvd.<br />\nSouthlake\, TX&nbsp\; 76092<br />\n<br />\nJoint Chamber Ribbon Cutting with Northwest Metroport Chamber of Commerce.
LOCATION:
UID:e.642.5194
SEQUENCE:3
DTSTAMP:20260423T001318Z
URL:https://business.colleyvillechamber.org/events/details/ribbon-cutting-providence-bank-04-18-2013-5194
END:VEVENT

END:VCALENDAR
