BEGIN:VCALENDAR
VERSION:2.0
PRODID:-//ChamberMaster//Event Calendar 2.0//EN
METHOD:PUBLISH
X-PUBLISHED-TTL:P3D
REFRESH-INTERVAL:P3D
CALSCALE:GREGORIAN
BEGIN:VEVENT
DTSTART:20141202T230000Z
DTEND:20141203T000000Z
X-MICROSOFT-CDO-ALLDAYEVENT:FALSE
SUMMARY:Ribbon Cutting - Prudential Texas Properties - Michelle Rawls
DESCRIPTION:5665 Colleville Blvd.\n\nSuite 300\n\nColleyville\, TX  76034
X-ALT-DESC;FMTTYPE=text/html:5665 Colleville Blvd.<br />\nSuite 300<br />\nColleyville\, TX&nbsp\; 76034
LOCATION:
UID:e.642.6937
SEQUENCE:3
DTSTAMP:20260421T153656Z
URL:https://business.colleyvillechamber.org/events/details/ribbon-cutting-prudential-texas-properties-michelle-rawls-12-02-2014-6937
END:VEVENT

END:VCALENDAR
