BEGIN:VCALENDAR
VERSION:2.0
PRODID:-//ChamberMaster//Event Calendar 2.0//EN
METHOD:PUBLISH
X-PUBLISHED-TTL:P3D
REFRESH-INTERVAL:P3D
CALSCALE:GREGORIAN
BEGIN:VEVENT
DTSTART:20130625T060000Z
DTEND:20130625T190000Z
X-MICROSOFT-CDO-ALLDAYEVENT:FALSE
SUMMARY:Ribbon Cutting Regus Management Group
DESCRIPTION:Ribbon cutting\, lunch provided\n\n1452 Hughes Rd.\, Suite 200\n\nGrapevine\, TX  76051\n\nTIME CHANGE!!!!!
X-ALT-DESC;FMTTYPE=text/html:Ribbon cutting\, lunch provided<br />\n1452 Hughes Rd.\, Suite 200<br />\nGrapevine\, TX&nbsp\; 76051<br />\n<strong><span style="color: rgb(255\, 0\, 0)\;"><span style="font-size: 16px\;">TIME CHANGE!!!!!</span></span></strong>
LOCATION:
UID:e.642.5647
SEQUENCE:3
DTSTAMP:20260422T222726Z
URL:https://business.colleyvillechamber.org/events/details/ribbon-cutting-regus-management-group-06-25-2013-5647
END:VEVENT

END:VCALENDAR
