BEGIN:VCALENDAR
VERSION:2.0
PRODID:-//ChamberMaster//Event Calendar 2.0//EN
METHOD:PUBLISH
X-PUBLISHED-TTL:P3D
REFRESH-INTERVAL:P3D
CALSCALE:GREGORIAN
BEGIN:VEVENT
DTSTART:20131204T180000Z
DTEND:20131204T184500Z
X-MICROSOFT-CDO-ALLDAYEVENT:FALSE
SUMMARY:Ribbon Cutting Richard's Custom Jewelers
DESCRIPTION:TIME CHANGE!!\n\nLight appetizers and drinks will be served.
X-ALT-DESC;FMTTYPE=text/html:<span style="color: rgb(255\, 0\, 0)\;">TIME CHANGE!!</span><br />\nLight appetizers and drinks will be served.
LOCATION:670 Grapevine Hwy Hurst\, Tx 76054
UID:e.642.5993
SEQUENCE:3
DTSTAMP:20260422T114802Z
URL:https://business.colleyvillechamber.org/events/details/ribbon-cutting-richard-s-custom-jewelers-12-04-2013-5993
END:VEVENT

END:VCALENDAR
