BEGIN:VCALENDAR
VERSION:2.0
PRODID:-//ChamberMaster//Event Calendar 2.0//EN
METHOD:PUBLISH
X-PUBLISHED-TTL:P3D
REFRESH-INTERVAL:P3D
CALSCALE:GREGORIAN
BEGIN:VEVENT
DTSTART:20130226T230000Z
DTEND:20130227T003000Z
X-MICROSOFT-CDO-ALLDAYEVENT:FALSE
SUMMARY:Ribbon Cutting - Rodan + Fields
DESCRIPTION:Rodan + Fields Dermatologists\n\nContacts:  Rachel Ryan and Julie Roth
X-ALT-DESC;FMTTYPE=text/html:Rodan + Fields Dermatologists<br />\nContacts:&nbsp\; Rachel Ryan and Julie Roth
LOCATION:Location: Bear Creek Spirits & Wine 7101 Colleyville\, Blvd.\, Colleyville
UID:e.642.5179
SEQUENCE:3
DTSTAMP:20260423T033906Z
URL:https://business.colleyvillechamber.org/events/details/ribbon-cutting-rodan-fields-02-26-2013-5179
END:VEVENT

END:VCALENDAR
