BEGIN:VCALENDAR
VERSION:2.0
PRODID:-//ChamberMaster//Event Calendar 2.0//EN
METHOD:PUBLISH
X-PUBLISHED-TTL:P3D
REFRESH-INTERVAL:P3D
CALSCALE:GREGORIAN
BEGIN:VEVENT
DTSTART:20121106T230000Z
DTEND:20121107T000000Z
X-MICROSOFT-CDO-ALLDAYEVENT:FALSE
SUMMARY:Ribbon Cutting - Skin Spa Med
DESCRIPTION:5604 Colleyville Blvd.\n\nSuite D\n\nColleyville\, TX  76034\n\n817-281-8181\n\nOwner:  Marie Reyes
X-ALT-DESC;FMTTYPE=text/html:5604 Colleyville Blvd.<br />\nSuite D<br />\nColleyville\, TX&nbsp\; 76034<br />\n817-281-8181<br />\nOwner:&nbsp\; Marie Reyes
LOCATION:
UID:e.642.5112
SEQUENCE:3
DTSTAMP:20260423T090420Z
URL:https://business.colleyvillechamber.org/events/details/ribbon-cutting-skin-spa-med-11-06-2012-5112
END:VEVENT

END:VCALENDAR
