BEGIN:VCALENDAR
VERSION:2.0
PRODID:-//ChamberMaster//Event Calendar 2.0//EN
METHOD:PUBLISH
X-PUBLISHED-TTL:P3D
REFRESH-INTERVAL:P3D
CALSCALE:GREGORIAN
BEGIN:VEVENT
DTSTART:20141118T230000Z
DTEND:20141119T000000Z
X-MICROSOFT-CDO-ALLDAYEVENT:FALSE
SUMMARY:Ribbon Cutting - Smart Realty
DESCRIPTION:Smart Realty\n\nChamber Rep and Broker:  DeWayne Smart\n\nLocation:  Smart Residence\n\n1809 Camden Green\n\nColleyville\, TX  76034
X-ALT-DESC;FMTTYPE=text/html:Smart Realty<br />\nChamber Rep and Broker:&nbsp\; DeWayne Smart<br />\nLocation:&nbsp\; Smart Residence<br />\n1809 Camden Green<br />\nColleyville\, TX&nbsp\; 76034<br />\n&nbsp\;
LOCATION:
UID:e.642.6947
SEQUENCE:3
DTSTAMP:20260421T171945Z
URL:https://business.colleyvillechamber.org/events/details/ribbon-cutting-smart-realty-11-18-2014-6947
END:VEVENT

END:VCALENDAR
