BEGIN:VCALENDAR
VERSION:2.0
PRODID:-//ChamberMaster//Event Calendar 2.0//EN
METHOD:PUBLISH
X-PUBLISHED-TTL:P3D
REFRESH-INTERVAL:P3D
CALSCALE:GREGORIAN
BEGIN:VEVENT
DTSTART:20121101T220000Z
DTEND:20121101T230000Z
X-MICROSOFT-CDO-ALLDAYEVENT:FALSE
SUMMARY:Ribbon Cutting - St. Mary Orthodox Church
DESCRIPTION:
X-ALT-DESC;FMTTYPE=text/html:
LOCATION:1110 John McCain Rd. Colleyville\, TX 76034
UID:e.642.5123
SEQUENCE:3
DTSTAMP:20260423T104442Z
URL:https://business.colleyvillechamber.org/events/details/ribbon-cutting-st-mary-orthodox-church-11-01-2012-5123
END:VEVENT

END:VCALENDAR
