BEGIN:VCALENDAR
VERSION:2.0
PRODID:-//ChamberMaster//Event Calendar 2.0//EN
METHOD:PUBLISH
X-PUBLISHED-TTL:P3D
REFRESH-INTERVAL:P3D
CALSCALE:GREGORIAN
BEGIN:VEVENT
DTSTART:20120404T220000Z
DTEND:20120405T003000Z
X-MICROSOFT-CDO-ALLDAYEVENT:FALSE
SUMMARY:Ribbon Cutting - Statton Design Group
DESCRIPTION:Multi-chamber ribbon cutting for Statton Design Group.
X-ALT-DESC;FMTTYPE=text/html:Multi-chamber ribbon cutting for Statton Design Group.
LOCATION:Paradise Cove at Lake Grapevine 3029 Midway Road Southlake\, Texas 76092
UID:e.642.5013
SEQUENCE:3
DTSTAMP:20260423T195714Z
URL:https://business.colleyvillechamber.org/events/details/ribbon-cutting-statton-design-group-04-04-2012-5013
END:VEVENT

END:VCALENDAR
